BEGIN:VCALENDAR
VERSION:2.0
PRODID:-//InvisionCommunity Events 5.0.15//EN
METHOD:PUBLISH
CALSCALE:GREGORIAN
REFRESH-INTERVAL:PT15M
X-PUBLISHED-TTL:PT15M
X-WR-CALNAME:الاجازات الرسمية المصرية والسعودية
NAME:الاجازات الرسمية المصرية والسعودية
BEGIN:VTIMEZONE
TZID:Europe/London
TZURL:https://tzurl.org/zoneinfo/Europe/London
X-LIC-LOCATION:Europe/London
BEGIN:DAYLIGHT
TZOFFSETFROM:+0000
TZOFFSETTO:+0100
TZNAME:BST
DTSTART:20260329T020000Z
RRULE:FREQ=YEARLY;BYMONTH=3;BYDAY=-1SU
END:DAYLIGHT
BEGIN:STANDARD
TZOFFSETFROM:+0100
TZOFFSETTO:+0000
TZNAME:GMT
DTSTART:20261025T020000Z
RRULE:FREQ=YEARLY;BYMONTH=10;BYDAY=-1SU
END:STANDARD
END:VTIMEZONE
BEGIN:VEVENT
SUMMARY:Saudi Arabia: Eid Al Adha
DTSTAMP:20260106T201008Z
SEQUENCE:1
UID:187-2-3f84635eda9cc3915ae5417c413cfbb7@araboug.org
ORGANIZER;CN="إدارة الموقع":admin@araboug.org
DESCRIPTION:Eid al-Adha\, the Feast of Sacrifice is the most important f
	east in the Muslim calendar. It celebrates the willingness of the Prophet 
	Ibrahim to sacrifice his son Ishmael in submission to Allah's command\, be
	fore he was stopped by Allah.\n\n\n\nDate varies on Lunar cycle\n\n\n\nInf
	ormation provided by www.officeholidays.com
DTSTART;VALUE=DATE:20260527
END:VEVENT
END:VCALENDAR
